BEGIN:VCALENDAR
VERSION:2.0
PRODID:-//hacksw/handcal//NONSGML v1.0//EN
CALSCALE:GREGORIAN
BEGIN:VEVENT
DTSTART:20260506T190000
DTEND:20260506T210000
UID:69e770c60ff94
DTSTAMP:1776775366
LOCATION:Rue de la Fourche\, 16
7340 Colfontaine\, Belgique

URL;VALUE=URI:https://www.aghb.org/evenements-et-reunions/seance-dinitiation-les-plans-popp/
SUMMARY:AGHB : Séance d'initiation - Les plans Popp
END:VEVENT
END:VCALENDAR
