BEGIN:VCALENDAR
VERSION:2.0
PRODID:-//hacksw/handcal//NONSGML v1.0//EN
CALSCALE:GREGORIAN
BEGIN:VEVENT
DTSTART:20200613T150000
DTEND:20200613T180000
UID:69e9da2fd90e9
DTSTAMP:1776933423
LOCATION:rue de Marvis\, 82
7500 Tournai\, Belgique

URL;VALUE=URI:https://www.aghb.org/evenements-et-reunions/reunion-de-section-juin-2020/
SUMMARY:AGHB : ANNULÉE : Réunion de section : juin 2020
END:VEVENT
END:VCALENDAR
