BEGIN:VCALENDAR
VERSION:2.0
PRODID:-//hacksw/handcal//NONSGML v1.0//EN
CALSCALE:GREGORIAN
BEGIN:VEVENT
DTSTART:20260502T090000
DTEND:20260502T123000
UID:69ea387443610
DTSTAMP:1776957556
LOCATION:rue du Pourcelet\, 98
7000 Mons\, Belgique

URL;VALUE=URI:https://www.aghb.org/evenements-et-reunions/reunion-de-section-158/
SUMMARY:AGHB : Réunion de section
END:VEVENT
END:VCALENDAR
