BEGIN:VCALENDAR
VERSION:2.0
PRODID:-//hacksw/handcal//NONSGML v1.0//EN
CALSCALE:GREGORIAN
BEGIN:VEVENT
DTSTART:20220122T090000
DTEND:20220122T120000
UID:69e9d86e9a9d4
DTSTAMP:1776932974
LOCATION:\, Afghanistan (‫افغانستان‬‎)

URL;VALUE=URI:https://www.aghb.org/evenements-et-reunions/reunion-de-section-14/
SUMMARY:AGHB : Réunion de section
END:VEVENT
END:VCALENDAR
