BEGIN:VCALENDAR
VERSION:2.0
PRODID:-//hacksw/handcal//NONSGML v1.0//EN
CALSCALE:GREGORIAN
BEGIN:VEVENT
DTSTART:20190116T173000
DTEND:20190116T200000
UID:69ecc7be7f3e3
DTSTAMP:1777125310
LOCATION:rue Olivier Lhoir\, 8
7333 Tertre\, Belgique

URL;VALUE=URI:https://www.aghb.org/evenements-et-reunions/permanence-bibliotheque-janvier-2019/
SUMMARY:AGHB : Permanence bibliothèque : janvier 2019
END:VEVENT
END:VCALENDAR
