BEGIN:VCALENDAR
VERSION:2.0
PRODID:-//hacksw/handcal//NONSGML v1.0//EN
CALSCALE:GREGORIAN
BEGIN:VEVENT
DTSTART:20260520T170000
DTEND:20260520T193000
UID:69ea37fbb4cd5
DTSTAMP:1776957435
LOCATION:rue du Pourcelet\, 98
7000 Mons\, Belgique

URL;VALUE=URI:https://www.aghb.org/evenements-et-reunions/permanence-186/
SUMMARY:AGHB : Permanence
END:VEVENT
END:VCALENDAR
